BEGIN:VCALENDAR
VERSION:2.0
PRODID:-//Plone.org//NONSGML plone.app.event//EN
X-WR-TIMEZONE:Europe/Madrid
BEGIN:VEVENT
SUMMARY:Diada Nacional de Catalunya
DTSTART;TZID=Europe/Madrid;VALUE=DATE-TIME:20110911T000000
DTEND;TZID=Europe/Madrid;VALUE=DATE-TIME:20110911T010000
DTSTAMP;VALUE=DATE-TIME:20260426T062408Z
UID:fcc581290670f8adc3fb3bea0ec7533c
CREATED;VALUE=DATE-TIME:20110911T000000Z
URL:https://www.canetdemar.cat/document.php?id=8002
END:VEVENT
END:VCALENDAR