BEGIN:VCALENDAR
VERSION:2.0
PRODID:-//Plone.org//NONSGML plone.app.event//EN
X-WR-TIMEZONE:Europe/Madrid
BEGIN:VEVENT
SUMMARY:Exposició: Els indians en la intimitat
DTSTART;TZID=Europe/Madrid;VALUE=DATE-TIME:20110915T190000
DTEND;TZID=Europe/Madrid;VALUE=DATE-TIME:20110915T200000
DTSTAMP;VALUE=DATE-TIME:20260424T201401Z
UID:fd5eba8aa03f2ca78e8a3abe806844b5
CREATED;VALUE=DATE-TIME:20110915T000000Z
CATEGORIES:Exposició
LOCATION:Sala municipal d'exposicions
ORGANIZER:Àrea de Cultura
COMMENT:Durada: del 15 al 18 de setembre
DESCRIPTION:4a Fira Mercat Modernista
URL:https://www.canetdemar.cat/document.php?id=7994
END:VEVENT
END:VCALENDAR