BEGIN:VCALENDAR
VERSION:2.0
PRODID:-//Plone.org//NONSGML plone.app.event//EN
X-WR-TIMEZONE:Europe/Madrid
BEGIN:VEVENT
SUMMARY:Presentació del Sot de l'Aubó monogràfic sobre la Guerra Civil a Canet de Mar, amb motiu del seu 75è aniversari
DTSTART;TZID=Europe/Madrid;VALUE=DATE-TIME:20110925T110000
DTEND;TZID=Europe/Madrid;VALUE=DATE-TIME:20110925T120000
DTSTAMP;VALUE=DATE-TIME:20260426T063734Z
UID:87ac028f47fcca7f662701f913c6cbd6
CREATED;VALUE=DATE-TIME:20110925T000000Z
LOCATION:Aula Magna CRTTT - Escola de Teixits - plaça Indústria 1
ORGANIZER:Centre d'Estudis Canetencs
URL:https://www.canetdemar.cat/document.php?id=7990
END:VEVENT
END:VCALENDAR