BEGIN:VCALENDAR
VERSION:2.0
PRODID:-//Plone.org//NONSGML plone.app.event//EN
X-WR-TIMEZONE:Europe/Madrid
BEGIN:VEVENT
SUMMARY:Festa del centenari del col·legi Yglesias
DTSTART;TZID=Europe/Madrid;VALUE=DATE-TIME:20110924T173000
DTEND;TZID=Europe/Madrid;VALUE=DATE-TIME:20110924T183000
DTSTAMP;VALUE=DATE-TIME:20260425T222249Z
UID:69b093b8f41c16fc4b330ab4ca2a9c89
CREATED;VALUE=DATE-TIME:20110924T000000Z
LOCATION:col·legi Yglesias - Eusebi Golart, 13
ORGANIZER:col·legi Yglesias
URL:https://www.canetdemar.cat/document.php?id=7913
END:VEVENT
END:VCALENDAR