BEGIN:VCALENDAR
VERSION:2.0
PRODID:-//Plone.org//NONSGML plone.app.event//EN
X-WR-TIMEZONE:Europe/Madrid
BEGIN:VEVENT
SUMMARY:Sopar revetlla de Nadal
DTSTART;TZID=Europe/Madrid;VALUE=DATE-TIME:20111217T213000
DTEND;TZID=Europe/Madrid;VALUE=DATE-TIME:20111217T223000
DTSTAMP;VALUE=DATE-TIME:20260425T191606Z
UID:924e4091d779e67b08e19fd2bd3e92c3
CREATED;VALUE=DATE-TIME:20111217T000000Z
LOCATION:Envelat de Vil·la Flora
ORGANIZER:Amics del ball
URL:https://www.canetdemar.cat/document.php?id=7883
END:VEVENT
END:VCALENDAR