BEGIN:VCALENDAR
VERSION:2.0
PRODID:-//Plone.org//NONSGML plone.app.event//EN
X-WR-TIMEZONE:Europe/Madrid
BEGIN:VEVENT
SUMMARY:Una nit en blanc per donar color a un somni
DTSTART;TZID=Europe/Madrid;VALUE=DATE-TIME:20110723T190000
DTEND;TZID=Europe/Madrid;VALUE=DATE-TIME:20110723T200000
DTSTAMP;VALUE=DATE-TIME:20260423T134250Z
UID:d9e6a9748f095075d095493732e9bae7
CREATED;VALUE=DATE-TIME:20110723T000000Z
LOCATION:Plaça Universitat
ORGANIZER:Artgrup dels Vents
DESCRIPTION:Del 23 al 24 de juliol
URL:https://www.canetdemar.cat/document.php?id=7788
END:VEVENT
END:VCALENDAR