BEGIN:VCALENDAR
VERSION:2.0
PRODID:-//Plone.org//NONSGML plone.app.event//EN
X-WR-TIMEZONE:Europe/Madrid
BEGIN:VEVENT
SUMMARY:Cinema a la fresca: Midnight in Paris
DTSTART;TZID=Europe/Madrid;VALUE=DATE-TIME:20110715T220000
DTEND;TZID=Europe/Madrid;VALUE=DATE-TIME:20110715T230000
DTSTAMP;VALUE=DATE-TIME:20260422T202309Z
UID:e702f61ecd0ce30cb46e42b2276c6a94
CREATED;VALUE=DATE-TIME:20110715T000000Z
LOCATION:Escola de Teixits - entrada per la porta del costat de la Casa museu
ORGANIZER:Associació Cultural Plataforma Odèon - ACPO. Patrocina: Àrea de Cultura de l'Ajuntament
COMMENT:Preu: 2 euros
URL:https://www.canetdemar.cat/document.php?id=7751
END:VEVENT
END:VCALENDAR