BEGIN:VCALENDAR
VERSION:2.0
PRODID:-//Plone.org//NONSGML plone.app.event//EN
X-WR-TIMEZONE:Europe/Madrid
BEGIN:VEVENT
SUMMARY:Sortida a TV3. Últim programa de la temporada de Divendres
DTSTART;TZID=Europe/Madrid;VALUE=DATE-TIME:20110714T133000
DTEND;TZID=Europe/Madrid;VALUE=DATE-TIME:20110714T143000
DTSTAMP;VALUE=DATE-TIME:20260423T070702Z
UID:404856284ff7b1ab02138bb806981205
CREATED;VALUE=DATE-TIME:20110714T000000Z
LOCATION:Parada bus Comediants
COMMENT:Preu: Gratuït
URL:https://www.canetdemar.cat/document.php?id=7705
END:VEVENT
END:VCALENDAR