BEGIN:VCALENDAR
VERSION:2.0
PRODID:-//Plone.org//NONSGML plone.app.event//EN
X-WR-TIMEZONE:Europe/Madrid
BEGIN:VEVENT
SUMMARY:XXX Concurs de Teatre Pedracastell: "Magnòlies d'acer"
DTSTART;TZID=Europe/Madrid;VALUE=DATE-TIME:20040321T180000
DTEND;TZID=Europe/Madrid;VALUE=DATE-TIME:20040321T190000
DTSTAMP;VALUE=DATE-TIME:20260423T045547Z
UID:c5b30fba3bd72bea5a8027d2a76ee4a3
CREATED;VALUE=DATE-TIME:20040321T000000Z
URL:https://www.canetdemar.cat/document.php?id=769
END:VEVENT
END:VCALENDAR