BEGIN:VCALENDAR
VERSION:2.0
PRODID:-//Plone.org//NONSGML plone.app.event//EN
X-WR-TIMEZONE:Europe/Madrid
BEGIN:VEVENT
SUMMARY:Presentació del llibre: Catalunya Estat d'Europa. A càrrec del Cercle Català de Negocis (CCN)
DTSTART;TZID=Europe/Madrid;VALUE=DATE-TIME:20111028T200000
DTEND;TZID=Europe/Madrid;VALUE=DATE-TIME:20111028T210000
DTSTAMP;VALUE=DATE-TIME:20260426T050026Z
UID:56297d9558f5ad579803bd6b53938844
CREATED;VALUE=DATE-TIME:20111028T000000Z
CATEGORIES:Conferència
LOCATION:Aula Magna CRTTT - Escola de Teixits
ORGANIZER:Plataforma per la Llengua Canet de Mar
DESCRIPTION:Acte del Correllengua 2011
URL:https://www.canetdemar.cat/document.php?id=7675
END:VEVENT
END:VCALENDAR