BEGIN:VCALENDAR
VERSION:2.0
PRODID:-//Plone.org//NONSGML plone.app.event//EN
X-WR-TIMEZONE:Europe/Madrid
BEGIN:VEVENT
SUMMARY:Conferència: Dona, la xarxa va amb tu
DTSTART;TZID=Europe/Madrid;VALUE=DATE-TIME:20110712T190000
DTEND;TZID=Europe/Madrid;VALUE=DATE-TIME:20110712T200000
DTSTAMP;VALUE=DATE-TIME:20260422T162937Z
UID:522559cbfb7ec46810450981fa59a768
CREATED;VALUE=DATE-TIME:20110712T000000Z
LOCATION:Sala d´audiovisuals dels Pavelló d´Esports
ORGANIZER:Dones en xarxa
URL:https://www.canetdemar.cat/document.php?id=7664
END:VEVENT
END:VCALENDAR