BEGIN:VCALENDAR
VERSION:2.0
PRODID:-//Plone.org//NONSGML plone.app.event//EN
X-WR-TIMEZONE:Europe/Madrid
BEGIN:VEVENT
SUMMARY:Arribada de la flama del Canigó
DTSTART;TZID=Europe/Madrid;VALUE=DATE-TIME:20110623T190000
DTEND;TZID=Europe/Madrid;VALUE=DATE-TIME:20110623T200000
DTSTAMP;VALUE=DATE-TIME:20260423T164617Z
UID:6efb3ba5028493d758a870e77b4b6d7a
CREATED;VALUE=DATE-TIME:20110623T000000Z
LOCATION:carrer Ample, davant de l'Ajuntament
DESCRIPTION:Festa Major 2011
URL:https://www.canetdemar.cat/document.php?id=7652
END:VEVENT
END:VCALENDAR