BEGIN:VCALENDAR
VERSION:2.0
PRODID:-//Plone.org//NONSGML plone.app.event//EN
X-WR-TIMEZONE:Europe/Madrid
BEGIN:VEVENT
SUMMARY:Performance de denúncia: Violència, tolerància zero!
DTSTART;TZID=Europe/Madrid;VALUE=DATE-TIME:20110619T220000
DTEND;TZID=Europe/Madrid;VALUE=DATE-TIME:20110619T230000
DTSTAMP;VALUE=DATE-TIME:20260423T200538Z
UID:491d13c96a912021cde70c2b9c12f933
CREATED;VALUE=DATE-TIME:20110619T000000Z
LOCATION:Plaça Universitat
DESCRIPTION:Festa Major 2011
URL:https://www.canetdemar.cat/document.php?id=7651
END:VEVENT
END:VCALENDAR