BEGIN:VCALENDAR
VERSION:2.0
PRODID:-//Plone.org//NONSGML plone.app.event//EN
X-WR-TIMEZONE:Europe/Madrid
BEGIN:VEVENT
SUMMARY:Postulació del Càncer
DTSTART;TZID=Europe/Madrid;VALUE=DATE-TIME:20110709T000000
DTEND;TZID=Europe/Madrid;VALUE=DATE-TIME:20110709T010000
DTSTAMP;VALUE=DATE-TIME:20260422T125418Z
UID:74ecf27b0dc078ce41f6735665d41690
CREATED;VALUE=DATE-TIME:20110709T000000Z
ORGANIZER:Associació de Lluita contra el Càncer
COMMENT:Durada: Durant tot el dia
DESCRIPTION:Festa Major 2011
URL:https://www.canetdemar.cat/document.php?id=7614
END:VEVENT
END:VCALENDAR