BEGIN:VCALENDAR
VERSION:2.0
PRODID:-//Plone.org//NONSGML plone.app.event//EN
X-WR-TIMEZONE:Europe/Madrid
BEGIN:VEVENT
SUMMARY:Festa Jove
DTSTART;TZID=Europe/Madrid;VALUE=DATE-TIME:20110624T220000
DTEND;TZID=Europe/Madrid;VALUE=DATE-TIME:20110624T230000
DTSTAMP;VALUE=DATE-TIME:20260421T192037Z
UID:8ba21637cf91c5e1898311a37e5b398a
CREATED;VALUE=DATE-TIME:20110624T000000Z
LOCATION:Passeig Marítim
DESCRIPTION:Festa Major 2011
URL:https://www.canetdemar.cat/document.php?id=7587
END:VEVENT
END:VCALENDAR