BEGIN:VCALENDAR
VERSION:2.0
PRODID:-//Plone.org//NONSGML plone.app.event//EN
X-WR-TIMEZONE:Europe/Madrid
BEGIN:VEVENT
SUMMARY:Aparador d'espectacles: Cirkus
DTSTART;TZID=Europe/Madrid;VALUE=DATE-TIME:20110619T190000
DTEND;TZID=Europe/Madrid;VALUE=DATE-TIME:20110619T200000
DTSTAMP;VALUE=DATE-TIME:20260423T161133Z
UID:5d69b08065234f193d2e771230d9f0be
CREATED;VALUE=DATE-TIME:20110619T000000Z
LOCATION:Plaça Colomer, en cas de pluja es farà a l'envelat de Vil·la Flora
ORGANIZER:Associació Cultural Plataforma Odèon - ACPO, amb el suport de l'Àrea de Cultura
COMMENT:Preu: gratuït
DESCRIPTION:Festa Major 2011
URL:https://www.canetdemar.cat/document.php?id=7584
END:VEVENT
END:VCALENDAR