BEGIN:VCALENDAR
VERSION:2.0
PRODID:-//Plone.org//NONSGML plone.app.event//EN
X-WR-TIMEZONE:Europe/Madrid
BEGIN:VEVENT
SUMMARY:Ball a l'Esplai
DTSTART;TZID=Europe/Madrid;VALUE=DATE-TIME:20110605T180000
DTEND;TZID=Europe/Madrid;VALUE=DATE-TIME:20110605T190000
DTSTAMP;VALUE=DATE-TIME:20260422T162643Z
UID:17c5668b42d73be5dd56df3cdbe6ce6c
CREATED;VALUE=DATE-TIME:20110605T000000Z
LOCATION:Esplai de la Gent Gran
ORGANIZER:Esplai de la Gent Gran
COMMENT:Preu: 2 euros
URL:https://www.canetdemar.cat/document.php?id=7553
END:VEVENT
END:VCALENDAR