BEGIN:VCALENDAR
VERSION:2.0
PRODID:-//Plone.org//NONSGML plone.app.event//EN
X-WR-TIMEZONE:Europe/Madrid
BEGIN:VEVENT
SUMMARY:Xerrada - col·loqui Com viure amb els efectes del tabac
DTSTART;TZID=Europe/Madrid;VALUE=DATE-TIME:20110530T190000
DTEND;TZID=Europe/Madrid;VALUE=DATE-TIME:20110530T200000
DTSTAMP;VALUE=DATE-TIME:20260422T064355Z
UID:2e1bd1231920299335c795ca91c78d9b
CREATED;VALUE=DATE-TIME:20110530T000000Z
LOCATION:Aula Magna CRTTT - Escola de Teixits
ORGANIZER:CAP Canet de Mar amb la col·laboració de: Ajuntament de Canet de Mar i Associació de dones Sàlvia
DESCRIPTION:Dintre dels actes organitzats durant la XII Setmana sense fum - del 23 al 31 de maig
URL:https://www.canetdemar.cat/document.php?id=7550
END:VEVENT
END:VCALENDAR