BEGIN:VCALENDAR
VERSION:2.0
PRODID:-//Plone.org//NONSGML plone.app.event//EN
X-WR-TIMEZONE:Europe/Madrid
BEGIN:VEVENT
SUMMARY:Fira de Nadal d'artesania
DTSTART;TZID=Europe/Madrid;VALUE=DATE-TIME:20111204T100000
DTEND;TZID=Europe/Madrid;VALUE=DATE-TIME:20111204T110000
DTSTAMP;VALUE=DATE-TIME:20260421T110739Z
UID:1c4f958bc872401f917d2280d00ac20f
CREATED;VALUE=DATE-TIME:20111204T000000Z
LOCATION:Plaça Universitat
ORGANIZER:Àrea de Promoció Econòmica
COMMENT:Durada: de 10.00 a 21.00 hores
URL:https://www.canetdemar.cat/document.php?id=7530
END:VEVENT
END:VCALENDAR