BEGIN:VCALENDAR
VERSION:2.0
PRODID:-//Plone.org//NONSGML plone.app.event//EN
X-WR-TIMEZONE:Europe/Madrid
BEGIN:VEVENT
SUMMARY:Fira d'artesania
DTSTART;TZID=Europe/Madrid;VALUE=DATE-TIME:20110702T180000
DTEND;TZID=Europe/Madrid;VALUE=DATE-TIME:20110702T190000
DTSTAMP;VALUE=DATE-TIME:20260423T214409Z
UID:de76b9bb8fdff1f51bd71401aeb424e8
CREATED;VALUE=DATE-TIME:20110702T000000Z
LOCATION:Plaça Universitat
ORGANIZER:Àrea de Promoció Econòmica
COMMENT:Durada: de 18.00 a 24.00 hores
DESCRIPTION:Festa Major 2011
URL:https://www.canetdemar.cat/document.php?id=7516
END:VEVENT
END:VCALENDAR