BEGIN:VCALENDAR
VERSION:2.0
PRODID:-//Plone.org//NONSGML plone.app.event//EN
X-WR-TIMEZONE:Europe/Madrid
BEGIN:VEVENT
SUMMARY:Debat públic amb els candidats/es a l'alcaldia
DTSTART;TZID=Europe/Madrid;VALUE=DATE-TIME:20110520T203000
DTEND;TZID=Europe/Madrid;VALUE=DATE-TIME:20110520T213000
DTSTAMP;VALUE=DATE-TIME:20260423T220440Z
UID:8f006a8ecc529f89af484ac363428cc0
CREATED;VALUE=DATE-TIME:20110520T000000Z
LOCATION:Envelat de Vil·la Flora
ORGANIZER:Revista Àmbit i Ràdio Canet
DESCRIPTION:Eleccions municipals - 2011
URL:https://www.canetdemar.cat/document.php?id=7511
END:VEVENT
END:VCALENDAR