BEGIN:VCALENDAR
VERSION:2.0
PRODID:-//Plone.org//NONSGML plone.app.event//EN
X-WR-TIMEZONE:Europe/Madrid
BEGIN:VEVENT
SUMMARY:Cinefòrum: Las chicas del calendario
DTSTART;TZID=Europe/Madrid;VALUE=DATE-TIME:20110603T190000
DTEND;TZID=Europe/Madrid;VALUE=DATE-TIME:20110603T200000
DTSTAMP;VALUE=DATE-TIME:20260422T002610Z
UID:1f5ff25d868e86d48baf630a4d172d1d
CREATED;VALUE=DATE-TIME:20110603T000000Z
CATEGORIES:Cinema
LOCATION:Aula Magna CRTTT - Escola de Teixits
ORGANIZER:Sàlvia
COMMENT:Preu: gratuït per tothom
URL:https://www.canetdemar.cat/document.php?id=7483
END:VEVENT
END:VCALENDAR