BEGIN:VCALENDAR
VERSION:2.0
PRODID:-//Plone.org//NONSGML plone.app.event//EN
X-WR-TIMEZONE:Europe/Madrid
BEGIN:VEVENT
SUMMARY:Xerrada L'independentisme des del s.XIX fins a la guerra civil
DTSTART;TZID=Europe/Madrid;VALUE=DATE-TIME:20110429T180000
DTEND;TZID=Europe/Madrid;VALUE=DATE-TIME:20110429T190000
DTSTAMP;VALUE=DATE-TIME:20260423T121203Z
UID:f342afe7b000f3a0388bd962bc523e26
CREATED;VALUE=DATE-TIME:20110429T000000Z
LOCATION:Aula Magna CRTTT - Escola de Teixits
ORGANIZER:Ateneu Independentista Canetdecideix!
URL:https://www.canetdemar.cat/document.php?id=7460
END:VEVENT
END:VCALENDAR