BEGIN:VCALENDAR
VERSION:2.0
PRODID:-//Plone.org//NONSGML plone.app.event//EN
X-WR-TIMEZONE:Europe/Madrid
BEGIN:VEVENT
SUMMARY:Diumenges de ball
DTSTART;TZID=Europe/Madrid;VALUE=DATE-TIME:20110529T190000
DTEND;TZID=Europe/Madrid;VALUE=DATE-TIME:20110529T200000
DTSTAMP;VALUE=DATE-TIME:20260422T064325Z
UID:cfb24d778ca259f253e3431c02f0d4c5
CREATED;VALUE=DATE-TIME:20110529T000000Z
LOCATION:Envelat de Vil·la Flora
ORGANIZER:Amics del ball
URL:https://www.canetdemar.cat/document.php?id=7420
END:VEVENT
END:VCALENDAR