BEGIN:VCALENDAR
VERSION:2.0
PRODID:-//Plone.org//NONSGML plone.app.event//EN
X-WR-TIMEZONE:Europe/Madrid
BEGIN:VEVENT
SUMMARY:Coferència: Els drets humans són els drets de les dones?
DTSTART;TZID=Europe/Madrid;VALUE=DATE-TIME:20110520T190000
DTEND;TZID=Europe/Madrid;VALUE=DATE-TIME:20110520T200000
DTSTAMP;VALUE=DATE-TIME:20260423T014651Z
UID:3b819fd6995a90ff54c9f2ed44a555ed
CREATED;VALUE=DATE-TIME:20110520T000000Z
CATEGORIES:Conferència
LOCATION:Plaça Manén, s/n
ORGANIZER:Sàlvia, associació de dones de Canet de Mar
COMMENT:Preu: Gratuït
URL:https://www.canetdemar.cat/document.php?id=7418
END:VEVENT
END:VCALENDAR