BEGIN:VCALENDAR
VERSION:2.0
PRODID:-//Plone.org//NONSGML plone.app.event//EN
X-WR-TIMEZONE:Europe/Madrid
BEGIN:VEVENT
SUMMARY:Presentació del llibre 500 raons per parlar català de David Pagès i Cassú
DTSTART;TZID=Europe/Madrid;VALUE=DATE-TIME:20110708T193000
DTEND;TZID=Europe/Madrid;VALUE=DATE-TIME:20110708T203000
DTSTAMP;VALUE=DATE-TIME:20260422T143326Z
UID:25224a9708646405fedc9d21ea528450
CREATED;VALUE=DATE-TIME:20110708T000000Z
CATEGORIES:Literatura
LOCATION:Aula Magna CRTTT - Escola de Teixits
ORGANIZER:Plataforma per la Llengua Canet de Mar
COMMENT:Preu: Gratuït
URL:https://www.canetdemar.cat/document.php?id=7396
END:VEVENT
END:VCALENDAR