BEGIN:VCALENDAR
VERSION:2.0
PRODID:-//Plone.org//NONSGML plone.app.event//EN
X-WR-TIMEZONE:Europe/Madrid
BEGIN:VEVENT
SUMMARY:Concert de música Sacra a càrrec de Música Suavis
DTSTART;TZID=Europe/Madrid;VALUE=DATE-TIME:20110415T000000
DTEND;TZID=Europe/Madrid;VALUE=DATE-TIME:20110415T010000
DTSTAMP;VALUE=DATE-TIME:20260422T143257Z
UID:134a6775a70d9b26bbf46afadf480836
CREATED;VALUE=DATE-TIME:20110415T000000Z
LOCATION:Capella fonda
URL:https://www.canetdemar.cat/document.php?id=7355
END:VEVENT
END:VCALENDAR