BEGIN:VCALENDAR
VERSION:2.0
PRODID:-//Plone.org//NONSGML plone.app.event//EN
X-WR-TIMEZONE:Europe/Madrid
BEGIN:VEVENT
SUMMARY:Escacs a l'Esplai
DTSTART;TZID=Europe/Madrid;VALUE=DATE-TIME:20110325T170000
DTEND;TZID=Europe/Madrid;VALUE=DATE-TIME:20110325T180000
DTSTAMP;VALUE=DATE-TIME:20260422T143440Z
UID:3e0fff44a200f9a25d0ff3697c472ba4
CREATED;VALUE=DATE-TIME:20110325T000000Z
LOCATION:Esplai de la gent gran
ORGANIZER:Esplai de la gent gran
COMMENT:Durada: els divendres de 17.00 a 18.30 hores
URL:https://www.canetdemar.cat/document.php?id=7334
END:VEVENT
END:VCALENDAR