BEGIN:VCALENDAR
VERSION:2.0
PRODID:-//Plone.org//NONSGML plone.app.event//EN
X-WR-TIMEZONE:Europe/Madrid
BEGIN:VEVENT
SUMMARY:Sortida a Rupit
DTSTART;TZID=Europe/Madrid;VALUE=DATE-TIME:20110427T080000
DTEND;TZID=Europe/Madrid;VALUE=DATE-TIME:20110427T090000
DTSTAMP;VALUE=DATE-TIME:20260424T033726Z
UID:c461621a4d30ea6b1cfbfb67ff93c07d
CREATED;VALUE=DATE-TIME:20110427T000000Z
LOCATION:Esplai de la gent gran
ORGANIZER:Esplai de la gent gran
URL:https://www.canetdemar.cat/document.php?id=7330
END:VEVENT
END:VCALENDAR