BEGIN:VCALENDAR
VERSION:2.0
PRODID:-//Plone.org//NONSGML plone.app.event//EN
X-WR-TIMEZONE:Europe/Madrid
BEGIN:VEVENT
SUMMARY:Ball a l'esplai
DTSTART;TZID=Europe/Madrid;VALUE=DATE-TIME:20110417T180000
DTEND;TZID=Europe/Madrid;VALUE=DATE-TIME:20110417T190000
DTSTAMP;VALUE=DATE-TIME:20260422T072611Z
UID:03ce7fbc1302fc423089bc9d86f4357c
CREATED;VALUE=DATE-TIME:20110417T000000Z
LOCATION:Esplai de la gent gran
ORGANIZER:Esplai de la gent gran
URL:https://www.canetdemar.cat/document.php?id=7328
END:VEVENT
END:VCALENDAR