BEGIN:VCALENDAR
VERSION:2.0
PRODID:-//Plone.org//NONSGML plone.app.event//EN
X-WR-TIMEZONE:Europe/Madrid
BEGIN:VEVENT
SUMMARY:Fira d'artesania
DTSTART;TZID=Europe/Madrid;VALUE=DATE-TIME:20110501T100000
DTEND;TZID=Europe/Madrid;VALUE=DATE-TIME:20110501T110000
DTSTAMP;VALUE=DATE-TIME:20260422T221752Z
UID:adc62f685c890e7c77f4c68420096039
CREATED;VALUE=DATE-TIME:20110501T000000Z
LOCATION:Plaça Universitat
ORGANIZER:Àrea de Promoció Econòmica
COMMENT:Durada: dissabte i diumenge
URL:https://www.canetdemar.cat/document.php?id=7324
END:VEVENT
END:VCALENDAR