BEGIN:VCALENDAR
VERSION:2.0
PRODID:-//Plone.org//NONSGML plone.app.event//EN
X-WR-TIMEZONE:Europe/Madrid
BEGIN:VEVENT
SUMMARY:Conferència: "Educació i immigració"
DTSTART;TZID=Europe/Madrid;VALUE=DATE-TIME:20021122T214500
DTEND;TZID=Europe/Madrid;VALUE=DATE-TIME:20021122T224500
DTSTAMP;VALUE=DATE-TIME:20260425T020406Z
UID:88832922730b25f814a7245b162c9df9
CREATED;VALUE=DATE-TIME:20021122T000000Z
URL:https://www.canetdemar.cat/document.php?id=73
END:VEVENT
END:VCALENDAR