BEGIN:VCALENDAR
VERSION:2.0
PRODID:-//Plone.org//NONSGML plone.app.event//EN
X-WR-TIMEZONE:Europe/Madrid
BEGIN:VEVENT
SUMMARY:Fira d'artesania
DTSTART;TZID=Europe/Madrid;VALUE=DATE-TIME:20110203T100000
DTEND;TZID=Europe/Madrid;VALUE=DATE-TIME:20110203T110000
DTSTAMP;VALUE=DATE-TIME:20260424T130455Z
UID:d1b139b6af1115d2d3566ca7421a2422
CREATED;VALUE=DATE-TIME:20110203T000000Z
LOCATION:plaça Universitat - Nova ubicació
ORGANIZER:Àrea de Promoció Econòmica
COMMENT:Durada: de 10.00 a 14.00 hores
URL:https://www.canetdemar.cat/document.php?id=7289
END:VEVENT
END:VCALENDAR