BEGIN:VCALENDAR
VERSION:2.0
PRODID:-//Plone.org//NONSGML plone.app.event//EN
X-WR-TIMEZONE:Europe/Madrid
BEGIN:VEVENT
SUMMARY:Curs d´Skate
DTSTART;TZID=Europe/Madrid;VALUE=DATE-TIME:20110305T110000
DTEND;TZID=Europe/Madrid;VALUE=DATE-TIME:20110305T120000
DTSTAMP;VALUE=DATE-TIME:20260423T131619Z
UID:80e6b6c017c33769a20689fdaa14bc5c
CREATED;VALUE=DATE-TIME:20110305T000000Z
LOCATION:pista d´skate de Vil&bull;la flora
ORGANIZER:Àrea de Joventut
COMMENT:Preu: 40 euros/mes
URL:https://www.canetdemar.cat/document.php?id=7232
END:VEVENT
END:VCALENDAR