BEGIN:VCALENDAR
VERSION:2.0
PRODID:-//Plone.org//NONSGML plone.app.event//EN
X-WR-TIMEZONE:Europe/Madrid
BEGIN:VEVENT
SUMMARY:Aparador d'espectacles: "La llegenda dels naps"
DTSTART;TZID=Europe/Madrid;VALUE=DATE-TIME:20040208T180000
DTEND;TZID=Europe/Madrid;VALUE=DATE-TIME:20040208T190000
DTSTAMP;VALUE=DATE-TIME:20260419T191930Z
UID:b498787e39333e8ca416ff1ef9ac14bf
CREATED;VALUE=DATE-TIME:20040208T000000Z
DESCRIPTION:A càrrec de la companyia Binixiflat
URL:https://www.canetdemar.cat/document.php?id=721
END:VEVENT
END:VCALENDAR