BEGIN:VCALENDAR
VERSION:2.0
PRODID:-//Plone.org//NONSGML plone.app.event//EN
X-WR-TIMEZONE:Europe/Madrid
BEGIN:VEVENT
SUMMARY:Teatre: Els Gats
DTSTART;TZID=Europe/Madrid;VALUE=DATE-TIME:20110206T181500
DTEND;TZID=Europe/Madrid;VALUE=DATE-TIME:20110206T191500
DTSTAMP;VALUE=DATE-TIME:20260423T103814Z
UID:acd9737de068d4d07d731db6a54c6eaa
CREATED;VALUE=DATE-TIME:20110206T000000Z
LOCATION:Centre Parroquial
ORGANIZER:Centre Parroquial
DESCRIPTION:XXXVIIè Concurs de Teatre aficionat &ndash; Premi Pedracastell
URL:https://www.canetdemar.cat/document.php?id=7120
END:VEVENT
END:VCALENDAR