BEGIN:VCALENDAR
VERSION:2.0
PRODID:-//Plone.org//NONSGML plone.app.event//EN
X-WR-TIMEZONE:Europe/Madrid
BEGIN:VEVENT
SUMMARY:IX Mostra d'Entitats
DTSTART;TZID=Europe/Madrid;VALUE=DATE-TIME:20110515T000000
DTEND;TZID=Europe/Madrid;VALUE=DATE-TIME:20110515T010000
DTSTAMP;VALUE=DATE-TIME:20260425T210653Z
UID:59e448ce89ec3d70bf347d8e3b8fd694
CREATED;VALUE=DATE-TIME:20110515T000000Z
LOCATION:carrers i places del centre de Canet de Mar
ORGANIZER:plaça Universitat, riera Gavarra, Quatre Cantons, riera Sant Domènec i carrer Ample (fins l'Ajuntament)
COMMENT:Durada: 14 i 15 de maig
URL:https://www.canetdemar.cat/document.php?id=7092
END:VEVENT
END:VCALENDAR