BEGIN:VCALENDAR
VERSION:2.0
PRODID:-//Plone.org//NONSGML plone.app.event//EN
X-WR-TIMEZONE:Europe/Madrid
BEGIN:VEVENT
SUMMARY:Presentació del llibre El català, al carrer
DTSTART;TZID=Europe/Madrid;VALUE=DATE-TIME:20110527T193000
DTEND;TZID=Europe/Madrid;VALUE=DATE-TIME:20110527T203000
DTSTAMP;VALUE=DATE-TIME:20260424T034015Z
UID:9b94856b272b86fb5b0a315bba068cc0
CREATED;VALUE=DATE-TIME:20110527T000000Z
CATEGORIES:Literatura
LOCATION:Aula Magna CRTTT - Escola de Teixits
ORGANIZER:Plataforma per la Llengua Canet de Mar
URL:https://www.canetdemar.cat/document.php?id=7086
END:VEVENT
END:VCALENDAR