BEGIN:VCALENDAR
VERSION:2.0
PRODID:-//Plone.org//NONSGML plone.app.event//EN
X-WR-TIMEZONE:Europe/Madrid
BEGIN:VEVENT
SUMMARY:Excursió a l'Arboç
DTSTART;TZID=Europe/Madrid;VALUE=DATE-TIME:20110130T090000
DTEND;TZID=Europe/Madrid;VALUE=DATE-TIME:20110130T100000
DTSTAMP;VALUE=DATE-TIME:20260426T050739Z
UID:f92786ec9965f9da2c4a1a5bb7bf0bd4
CREATED;VALUE=DATE-TIME:20110130T000000Z
LOCATION:Parada bus Comediants
ORGANIZER:Sàlvia
COMMENT:Preu: a determinar
DESCRIPTION:Visita guiada a la Giralda i Museu de puntes de coixí
URL:https://www.canetdemar.cat/document.php?id=7067
END:VEVENT
END:VCALENDAR