BEGIN:VCALENDAR
VERSION:2.0
PRODID:-//Plone.org//NONSGML plone.app.event//EN
X-WR-TIMEZONE:Europe/Madrid
BEGIN:VEVENT
SUMMARY:Excursió a Sort
DTSTART;TZID=Europe/Madrid;VALUE=DATE-TIME:20101201T000000
DTEND;TZID=Europe/Madrid;VALUE=DATE-TIME:20101201T010000
DTSTAMP;VALUE=DATE-TIME:20260422T201250Z
UID:2243c882a4cafd4d8034623df564a7b1
CREATED;VALUE=DATE-TIME:20101201T000000Z
ORGANIZER:Esplai de la gent gran
COMMENT:Preu: 69 euros
Durada: 1 i 2 de desembre
URL:https://www.canetdemar.cat/document.php?id=6996
END:VEVENT
END:VCALENDAR