BEGIN:VCALENDAR
VERSION:2.0
PRODID:-//Plone.org//NONSGML plone.app.event//EN
X-WR-TIMEZONE:Europe/Madrid
BEGIN:VEVENT
SUMMARY:Fira de Sant Llúcia
DTSTART;TZID=Europe/Madrid;VALUE=DATE-TIME:20101219T100000
DTEND;TZID=Europe/Madrid;VALUE=DATE-TIME:20101219T110000
DTSTAMP;VALUE=DATE-TIME:20260424T000202Z
UID:0941a35a9a7398d74f66dfa0eb6fdd6c
CREATED;VALUE=DATE-TIME:20101219T000000Z
LOCATION:Riera Sant Domènec
ORGANIZER:Àrea de Festes
COMMENT:Durada: de 10.00 a 21.00 hores
URL:https://www.canetdemar.cat/document.php?id=6976
END:VEVENT
END:VCALENDAR