BEGIN:VCALENDAR
VERSION:2.0
PRODID:-//Plone.org//NONSGML plone.app.event//EN
X-WR-TIMEZONE:Europe/Madrid
BEGIN:VEVENT
SUMMARY:Ball a l'Esplai
DTSTART;TZID=Europe/Madrid;VALUE=DATE-TIME:20101205T180000
DTEND;TZID=Europe/Madrid;VALUE=DATE-TIME:20101205T190000
DTSTAMP;VALUE=DATE-TIME:20260423T235658Z
UID:30d3422f37c69af417eea3094e8d733d
CREATED;VALUE=DATE-TIME:20101205T000000Z
LOCATION:Esplai de la gent gran
ORGANIZER:Esplai de la gent gran
URL:https://www.canetdemar.cat/document.php?id=6965
END:VEVENT
END:VCALENDAR