BEGIN:VCALENDAR
VERSION:2.0
PRODID:-//Plone.org//NONSGML plone.app.event//EN
X-WR-TIMEZONE:Europe/Madrid
BEGIN:VEVENT
SUMMARY:Correfoc per la llengua
DTSTART;TZID=Europe/Madrid;VALUE=DATE-TIME:20101029T193000
DTEND;TZID=Europe/Madrid;VALUE=DATE-TIME:20101029T203000
DTSTAMP;VALUE=DATE-TIME:20260423T132005Z
UID:9eefd21da2e699c31735158e580fc5a2
CREATED;VALUE=DATE-TIME:20101029T000000Z
CATEGORIES:Festa
LOCATION:Plaça 11 de Setembre
ORGANIZER:Plataforma per la Llengua Canet de Mar
COMMENT:Preu: Gratuït
DESCRIPTION:A càrrec dels Diables de Canet de Mar
URL:https://www.canetdemar.cat/document.php?id=6885
END:VEVENT
END:VCALENDAR