BEGIN:VCALENDAR
VERSION:2.0
PRODID:-//Plone.org//NONSGML plone.app.event//EN
X-WR-TIMEZONE:Europe/Madrid
BEGIN:VEVENT
SUMMARY:Exposició de l'obra de Maria Dolors Vilà Español
DTSTART;TZID=Europe/Madrid;VALUE=DATE-TIME:20101217T000000
DTEND;TZID=Europe/Madrid;VALUE=DATE-TIME:20101217T010000
DTSTAMP;VALUE=DATE-TIME:20260422T201843Z
UID:b77142358bf3249a752132e50faee533
CREATED;VALUE=DATE-TIME:20101217T000000Z
LOCATION:Sala municipal d'exposicions
COMMENT:Durada: del 17 de desembre al 9 de gener
URL:https://www.canetdemar.cat/document.php?id=6879
END:VEVENT
END:VCALENDAR