BEGIN:VCALENDAR
VERSION:2.0
PRODID:-//Plone.org//NONSGML plone.app.event//EN
X-WR-TIMEZONE:Europe/Madrid
BEGIN:VEVENT
SUMMARY:Exposició: Finestres
DTSTART;TZID=Europe/Madrid;VALUE=DATE-TIME:20101105T000000
DTEND;TZID=Europe/Madrid;VALUE=DATE-TIME:20101105T010000
DTSTAMP;VALUE=DATE-TIME:20260422T053829Z
UID:3beb367d1e0f3d491467c7507ef3917f
CREATED;VALUE=DATE-TIME:20101105T000000Z
LOCATION:Sala municipal d'exposicions
COMMENT:Durada: del 5 al 18 de novembre
URL:https://www.canetdemar.cat/document.php?id=6875
END:VEVENT
END:VCALENDAR