BEGIN:VCALENDAR
VERSION:2.0
PRODID:-//Plone.org//NONSGML plone.app.event//EN
X-WR-TIMEZONE:Europe/Madrid
BEGIN:VEVENT
SUMMARY:Comissió Promotora de la Mostra d´Entitats: Preparació Assemblea General
DTSTART;TZID=Europe/Madrid;VALUE=DATE-TIME:20101123T190000
DTEND;TZID=Europe/Madrid;VALUE=DATE-TIME:20101123T200000
DTSTAMP;VALUE=DATE-TIME:20260424T033811Z
UID:cac7e9809de8bf6a744356da4ea40dd4
CREATED;VALUE=DATE-TIME:20101123T000000Z
LOCATION:Ajuntament, carrer Ample, 11
ORGANIZER:Àrea de Participació i Ciutadania
URL:https://www.canetdemar.cat/document.php?id=6872
END:VEVENT
END:VCALENDAR