BEGIN:VCALENDAR
VERSION:2.0
PRODID:-//Plone.org//NONSGML plone.app.event//EN
X-WR-TIMEZONE:Europe/Madrid
BEGIN:VEVENT
SUMMARY:Conferència: Nou codi de família - criteris nous
DTSTART;TZID=Europe/Madrid;VALUE=DATE-TIME:20101029T193000
DTEND;TZID=Europe/Madrid;VALUE=DATE-TIME:20101029T203000
DTSTAMP;VALUE=DATE-TIME:20260426T000135Z
UID:d6113a9bfebf4ae830cbb02ed2c5a421
CREATED;VALUE=DATE-TIME:20101029T000000Z
CATEGORIES:Conferència
LOCATION:Aula Magna Escola Universitària de Teixits de Punt
ORGANIZER:Sàlvia i Ràdio Canet
COMMENT:Preu: gratuït per a tothom
URL:https://www.canetdemar.cat/document.php?id=6786
END:VEVENT
END:VCALENDAR