BEGIN:VCALENDAR
VERSION:2.0
PRODID:-//Plone.org//NONSGML plone.app.event//EN
X-WR-TIMEZONE:Europe/Madrid
BEGIN:VEVENT
SUMMARY:Ball a l´Esplai
DTSTART;TZID=Europe/Madrid;VALUE=DATE-TIME:20101017T180000
DTEND;TZID=Europe/Madrid;VALUE=DATE-TIME:20101017T190000
DTSTAMP;VALUE=DATE-TIME:20260420T182734Z
UID:1764083deb3128c7b60287f37904c653
CREATED;VALUE=DATE-TIME:20101017T000000Z
LOCATION:Esplai de la gent gran, carrer Vall 24
ORGANIZER:Esplai de la gent gran
URL:https://www.canetdemar.cat/document.php?id=6781
END:VEVENT
END:VCALENDAR