BEGIN:VCALENDAR
VERSION:2.0
PRODID:-//Plone.org//NONSGML plone.app.event//EN
X-WR-TIMEZONE:Europe/Madrid
BEGIN:VEVENT
SUMMARY:Comissió Promotora de la Mostra d'Entitats
DTSTART;TZID=Europe/Madrid;VALUE=DATE-TIME:20101019T190000
DTEND;TZID=Europe/Madrid;VALUE=DATE-TIME:20101019T200000
DTSTAMP;VALUE=DATE-TIME:20260422T072626Z
UID:9fd325e37a3a260273ac4d99cd204d7d
CREATED;VALUE=DATE-TIME:20101019T000000Z
LOCATION:Centre Cívic i Cultura Vil·la Flora
ORGANIZER:Àrea de Participació i Ciutadania
URL:https://www.canetdemar.cat/document.php?id=6776
END:VEVENT
END:VCALENDAR