BEGIN:VCALENDAR
VERSION:2.0
PRODID:-//Plone.org//NONSGML plone.app.event//EN
X-WR-TIMEZONE:Europe/Madrid
BEGIN:VEVENT
SUMMARY:Teatre: Pel davant i pel darrera
DTSTART;TZID=Europe/Madrid;VALUE=DATE-TIME:20101020T190000
DTEND;TZID=Europe/Madrid;VALUE=DATE-TIME:20101020T200000
DTSTAMP;VALUE=DATE-TIME:20260423T172157Z
UID:e80f618cf87cac6fa90f92e4e948fbea
CREATED;VALUE=DATE-TIME:20101020T000000Z
LOCATION:Parada de bus Comediants
ORGANIZER:Àrea de Cultura
COMMENT:Preu: 28 euros
URL:https://www.canetdemar.cat/document.php?id=6755
END:VEVENT
END:VCALENDAR